BEGIN:VCALENDAR
VERSION:2.0
PRODID:-//ChamberMaster//Event Calendar 2.0//EN
METHOD:PUBLISH
X-PUBLISHED-TTL:P1H
REFRESH-INTERVAL:P1H
CALSCALE:GREGORIAN
BEGIN:VTIMEZONE
TZID:America/Chicago
BEGIN:DAYLIGHT
RRULE:FREQ=YEARLY;BYMONTH=3;BYDAY=2SU
DTSTART:20070101T000000
TZOFFSETFROM:-0600
TZOFFSETTO:-0500
TZNAME:Central Daylight Time
END:DAYLIGHT
BEGIN:STANDARD
RRULE:FREQ=YEARLY;BYMONTH=11;BYDAY=1SU
DTSTART:20070101T000000
TZOFFSETFROM:-0500
TZOFFSETTO:-0600
TZNAME:Central Standard Time
END:STANDARD
END:VTIMEZONE
BEGIN:VEVENT
DTSTART;TZID=America/Chicago:20260505T113000
DTEND;TZID=America/Chicago:20260505T120000
X-MICROSOFT-CDO-ALLDAYEVENT:FALSE
SUMMARY:Ribbon Cutting - HOTWORX Longview
DESCRIPTION:HOTWORX is a 24-hour infrared fitness studio that offers a unique workout experience combining heat\, infrared energy\, and exercise. Members can enjoy a variety of virtual instructor-led sessions including yoga\, Pilates\, HIIT\, and more\, all designed to maximize results in less time. With a focus on convenience\, innovation\, and wellness\, HOTWORX helps individuals burn more calories\, detox\, and improve overall health in a supportive\, modern environment.\nCome join us in welcoming HOTWORX as a new member of the Longview Chamber of Commerce!
X-ALT-DESC;FMTTYPE=text/html:<!DOCTYPE html><html><head><title></title></head><body aria-disabled="false"><p>HOTWORX is a 24-hour infrared fitness studio that offers a unique workout experience combining heat\, infrared energy\, and exercise. Members can enjoy a variety of virtual instructor-led sessions including yoga\, Pilates\, HIIT\, and more\, all designed to maximize results in less time. With a focus on convenience\, innovation\, and wellness\, HOTWORX helps individuals burn more calories\, detox\, and improve overall health in a supportive\, modern environment.</p><p><br></p><p>Come join us in welcoming HOTWORX as a new member of the Longview Chamber of Commerce!</p></body></html>
LOCATION:103 W. Loop 281 Suite 206 TX 75605
UID:e.2129.1440689
SEQUENCE:3
DTSTAMP:20260424T162002Z
URL:https://members.longviewchamber.com/events/Details/ribbon-cutting-hotworx-longview-1705852?sourceTypeId=Hub
END:VEVENT
END:VCALENDAR
